BEGIN:VCALENDAR
PRODID:-//sitepark/sitekit//3.0/EN
VERSION:2.0
CALSCALE:GREGORIAN
BEGIN:VEVENT
UID:194942/2026-09-24
DTSTAMP:20260423T140222Z
SUMMARY:FH Dortmund auf der vocatium-Messe Münster
DESCRIPTION:
URL:https://www1.fh-dortmund.de/termine/vocatium-muenster-2026.php?sp:start
 DateKey=2026-09-24
DTSTART;TZID=Europe/Berlin:20260924T083000
DTEND;TZID=Europe/Berlin:20260925T144500
LOCATION:
CATEGORIES:Startseite,Studieninteressierte
END:VEVENT
END:VCALENDAR
